BEGIN:VCALENDAR
PRODID:NingEventWidget-v1
VERSION:2.0
METHOD:PUBLISH
BEGIN:VEVENT
UID:4320450:Event:2047
DTSTAMP:20260425T124908Z
SUMMARY:Women & Aging: Image (R)evolution
DESCRIPTION:FREE EVENT\n\nJoin us for a discussion about women and agi
 ng, as we explore the often contradictory images that are presented to
  us through the media, popular culture, and film.\n\n5:30pm Refreshmen
 ts, resource tables,\nartwork by UArts students and faculty\nLight ref
 reshments will be served\n\n6:00pm Panel Discussion\n\nSpeakers:\n\n* 
 Merle Drake, LCSW, Executive Director of the Supportive Older Women’
 s Network (SOWN)\n* Sarah H. Kagan, PhD, RN, Lucy Walker Honorary Term
  Professor of Gerontological Nursing, University of Pennsylvania\n* Va
 lerie Temple Lange, MFA, Programming and Community Outreach Coordinato
 r, Bryn Mawr Film Institute\n\n\n Photo credits (l to r): Ari Seth Coh
 en (Advancedstyle.blogspot.com), MS clipart, Ebaum\n\nFor more informa
 tion visit http://phillytodo.com/events/women-aging-image-revolution
DTSTART:20100916T213000Z
DTEND:20100916T233000Z
CATEGORIES:dicussion, networking, women
LOCATION:The University of Arts - Corzo Center
WEBSITE:http://gpimage.eventbrite.com
URL:http://gpimage.eventbrite.com
CONTACT:
ORGANIZER;CN=GenPhilly:http://phillytodo.com/profile/GenPhilly
ATTACH;FMTTYPE="image/jpeg":http://storage.ning.com/topology/rest/1.0/
 file/get/3054950585?profile=original
ATTENDEE;ROLE=REQ-PARTICIPANT;PARTSTAT=ACCEPTED;RSVP=TRUE;CN=GenPhilly
 :http://phillytodo.com/profile/GenPhilly
END:VEVENT
END:VCALENDAR
