BEGIN:VCALENDAR
PRODID:NingEventWidget-v1
VERSION:2.0
METHOD:PUBLISH
BEGIN:VEVENT
UID:4320450:Event:35910
DTSTAMP:20260425T160928Z
SUMMARY:Women Against Abuse's Dish It Up 2014
DESCRIPTION:Join us for Dish It Up 2014!\nThis night of food, fun and 
 fashion will feature amazing food from premier female restaurateurs, p
 urple-themed desserts from the most talented pastry chefs in the city,
  and a brand new Women of the Year Award which will recognize outsta
 nding leadership by community members in the movement to end domestic 
 violence.\n\nWomen Against Abuse, a 501(c)3 nonprofit agency, is Phila
 delphia's leading domestic violence advocate and service provider and 
 among the largest domestic violence agencies in the country. \nThe mi
 ssion of Women Against Abuse is to provide quality, compassionate, and
  nonjudgmental services in a manner that fosters self-respect and inde
 pendence in persons experiencing intimate partner violence and to lead
  the struggle to end domestic violence through advocacy and community 
 education.\n\nFor more information visit http://phillytodo.com/events/
 women-against-abuse-s-dish-it-up-2014
DTSTART:20140327T213000Z
DTEND:20140328T000000Z
CATEGORIES:fundraiser
LOCATION:WHYY Studios
WEBSITE:http://www.womenagainstabuse.org/index.php/take-action/events-
 and-campaigns/dish-it-up
URL:http://www.womenagainstabuse.org/index.php/take-action/events-and-
 campaigns/dish-it-up
CONTACT:215-605-2013
ORGANIZER;CN="Bread and Butter Productions":http://phillytodo.com/prof
 ile/BreadandButterProductions
ATTACH;FMTTYPE="image/jpeg":http://storage.ning.com/topology/rest/1.0/
 file/get/3054973580?profile=original
ATTENDEE;ROLE=REQ-PARTICIPANT;PARTSTAT=ACCEPTED;RSVP=TRUE;CN="Bread an
 d Butter Productions":http://phillytodo.com/profile/BreadandButterProd
 uctions
END:VEVENT
END:VCALENDAR
