BEGIN:VCALENDAR
PRODID:NingEventWidget-v1
VERSION:2.0
METHOD:PUBLISH
BEGIN:VEVENT
UID:4320450:Event:56145
DTSTAMP:20260425T130433Z
SUMMARY:Witches &amp; Wizards: Brews and Broomsticks Pub Crawl
DESCRIPTION:A new twist on a former fan-favorite, this updated Pub Cra
 wl offers an evening of magical fun including spirited food and drink 
 specials, photo booths, performances by aerialists, fortune tellers al
 ong Germantown Avenue, and much more. The Witches & Wizard Pub Crawl t
 icket includes exclusive access to drink specials at participating loc
 ations, one free drink ticket, Witches & Wizards swag (including a reu
 sable bag, cup, and t-shirt), one free activity ticket, and entertainm
 ent.\n\nFor more information visit http://phillytodo.com/events/witche
 s-amp-wizards-pub-crawl
DTSTART:20181019T233000Z
DTEND:20181020T020000Z
CATEGORIES:bar, crawl
LOCATION:philadelphia
WEBSITE:https://chestnut-hill.ticketleap.com/brews-broomsticks-pub-cra
 wl/t/brewsweb/
URL:https://chestnut-hill.ticketleap.com/brews-broomsticks-pub-crawl/t
 /brewsweb/
CONTACT:
ORGANIZER;CN="Bryan Chan":http://phillytodo.com/profile/BryanChan
ATTACH;FMTTYPE="image/jpeg":http://storage.ning.com/topology/rest/1.0/
 file/get/3055015692?profile=original
ATTENDEE;ROLE=REQ-PARTICIPANT;PARTSTAT=ACCEPTED;RSVP=TRUE;CN="Bryan Ch
 an":http://phillytodo.com/profile/BryanChan
END:VEVENT
END:VCALENDAR
