BEGIN:VCALENDAR
PRODID:NingEventWidget-v1
VERSION:2.0
METHOD:PUBLISH
BEGIN:VEVENT
UID:4320450:Event:56037
DTSTAMP:20260425T125005Z
SUMMARY:Witches &amp; Wizards Day
DESCRIPTION:Fun for the entire family, visit Chestnut Hill for a day f
 ull of autumnal festivities and a helping of Halloween. The 8th Annual
  Brotherly Love Cup Quidditch Tournament and Woodmere Art Museum Straw
  Maze headline the event, while locals and visitors can also enjoy han
 ds-on craft activities, live entertainment, hay rides, shopping, and m
 ore throughout the Chestnut Hill community.\n\nFor more information vi
 sit http://phillytodo.com/events/witches-amp-wizards-day
DTSTART:20181020T140000Z
DTEND:20181020T210000Z
CATEGORIES:festival
LOCATION:Chestnut Hill
WEBSITE:
URL:
CONTACT:
ORGANIZER;CN="Bryan Chan":http://phillytodo.com/profile/BryanChan
ATTACH;FMTTYPE="image/jpeg":http://storage.ning.com/topology/rest/1.0/
 file/get/3055015229?profile=original
ATTENDEE;ROLE=REQ-PARTICIPANT;PARTSTAT=ACCEPTED;RSVP=TRUE;CN="Bryan Ch
 an":http://phillytodo.com/profile/BryanChan
END:VEVENT
END:VCALENDAR
