BEGIN:VCALENDAR
PRODID:NingEventWidget-v1
VERSION:2.0
METHOD:PUBLISH
BEGIN:VEVENT
UID:4320450:Event:38627
DTSTAMP:20260425T142719Z
SUMMARY:Witch CRAFT Beer Crawl on East Passyunk
DESCRIPTION:Witch CRAFT Beer Crawl casts a spell at 13 East Passyunk r
 estaurants and bars on Wednesday, October 22, 2014, from 5:30pm to 9:3
 0pm. This annual Halloween bar crawl includes $3.00 craft beers, a wit
 ch hat and a Witch CRAFT stamp card. Earn stamps for a chance to win p
 rizes worth over $300.00. Costume contest includes prizes for “Witch
  of East Passyunk” and “Most Original.” Registration takes place
  at Garage (1231 EPA) from 5:30pm -7:00pm. Tickets are only $6.66 and 
 on sale now at www.bit.ly/eastpassyunkwitch14\n \n\nCast your spell t
 hese award-winning bars and restaurants:\n**Adobe Cafe (1919 EPA)\n**B
 irrra (1700 EPA)\n**Brigantessa (1520 EPA)\n**Cantina los Caballitos (
 1651EPA)\n**Garage (1231 EPA)\n**Lucky 13 (1820 EPA)\n**Noir (1909 EPA
 )\n**Pub on Passyunk East (1501 EPA)\n**Ray's Happy Birthday Bar (1200
  EPA)\n**South Philly Bar & Grill (1235 EPA)\n**Stateside (1536 EPA)\n
 **Stogie Joe's (1801 EPA)\n**The Bottle Shop (1837 EPA)\n \nOther tre
 ats along the Avenue will include:\n \n**Bell's Bike Shop (1320 EPA) 
 - Stop for samples of all natural Apples & Cinnamon Skratch labs hydra
 tion drink + a special \"warmed\" adult version (think spiked cider).\
 n**Nicole Rae Styer Boutique (1822 EPA) - 20% off anything orange and 
 black including jewelry, vintage, antiques and one of a kinds. Open ti
 l 8:30pm\n**NOORD eetcafe (11th & Tasker) - Outdoor Bitterballen (frie
 d braised pork deliciousness) stand, $4 each or 3 for $10\n \nSpecial
  thanks to Victory Brewing Company, Drink Philly, Philebrity and Yelp!
  Proceeds benefit EPABID's cleaning and greening programs.\nPlease dri
 nk responsibly. East Passyunk Avenue is easily accessible by SEPTA via
  the Broad Street Line and several bus lines. Taxis are accessible on 
 Broad Street, or bartenders can call one for you.\n\nFor more informat
 ion visit http://phillytodo.com/events/witch-craft-beer-crawl-on-east-
 passyunk-1
DTSTART:20141022T213000Z
DTEND:20141023T013000Z
CATEGORIES:beer, crawl
LOCATION:Garage Bar
WEBSITE:https://www.facebook.com/events/938599282820781/
URL:https://www.facebook.com/events/938599282820781/
CONTACT:
ORGANIZER;CN="Aversa PR & Events":http://phillytodo.com/profile/KoryAv
 ersa277
ATTACH;FMTTYPE="image/jpeg":http://storage.ning.com/topology/rest/1.0/
 file/get/3054981907?profile=original
ATTENDEE;ROLE=REQ-PARTICIPANT;PARTSTAT=ACCEPTED;RSVP=TRUE;CN="Aversa P
 R & Events":http://phillytodo.com/profile/KoryAversa277
END:VEVENT
END:VCALENDAR
