BEGIN:VCALENDAR
PRODID:NingEventWidget-v1
VERSION:2.0
METHOD:PUBLISH
BEGIN:VEVENT
UID:4320450:Event:44918
DTSTAMP:20260425T124841Z
SUMMARY:WinterFest Live!
DESCRIPTION:Winterfest Live! is back for it's 3rd year! Join us on Sat
 urday, January 30th for The Great Philadelphia Winter Craft Beer Festi
 val celebration!Grab your friends and listen to live bands all day wit
 h unlimited samplings of 150+ great beers from 75+ breweries.Enjoy win
 ter-warmup lagers, porters, and stouts in your own custom stein.Plus a
  day filled with live DJs, amazing bands, super-fun contests in Victor
 y Beer Hall, outdoor fire pits, games, activities, prizes, and giveawa
 ys.Share and post your pictures using #WinterfestLive throughout the d
 ay!GA tickets are still available! VIP is SOLD OUT. Grab yours before 
 the event sells out!\n- See more at: http://www.xfinitylive.com/entert
 ainment/event/5751#sthash.uJbUD2ia.dpuf\n\nFor more information visit 
 http://phillytodo.com/events/winterfest-live
DTSTART:20160130T200000Z
DTEND:20160131T000000Z
CATEGORIES:beer, festival
LOCATION:XFINITY Live!
WEBSITE:http://www.xfinitylive.com/entertainment/event/5751
URL:http://www.xfinitylive.com/entertainment/event/5751
CONTACT:(267) 443-6415
ORGANIZER;CN="XFINITY Live! Philadelphia":http://phillytodo.com/profil
 e/XFINITYLivePhiladelphia
ATTACH;FMTTYPE="image/jpeg":http://storage.ning.com/topology/rest/1.0/
 file/get/3054995101?profile=original
ATTENDEE;ROLE=REQ-PARTICIPANT;PARTSTAT=ACCEPTED;RSVP=TRUE;CN="XFINITY 
 Live! Philadelphia":http://phillytodo.com/profile/XFINITYLivePhiladelp
 hia
END:VEVENT
END:VCALENDAR
