BEGIN:VCALENDAR
PRODID:NingEventWidget-v1
VERSION:2.0
METHOD:PUBLISH
BEGIN:VEVENT
UID:4320450:Event:54306
DTSTAMP:20260425T113257Z
SUMMARY:Winterfest Live! 2018
DESCRIPTION:Winterfest Live! is back at XFINITY Live! Join us on Satur
 day, February 17 for The Great Philadelphia Winter Craft Beer Festival
  celebration!  Grab your friends and listen to live bands all day with
  unlimited samplings of 150+ great beers from 75+ breweries.   Enjoy 
 winter-warmup lagers, porters, and stouts in your own custom stein.  
  Plus a day filled with live DJs, amazing bands, super-fun contests in
  Victory Beer Hall, outdoor fire pits, games, activities, prizes, and 
 giveaways.   Share and post your pictures using #WinterfestLive thr
 oughout the day!\n\nFor more information visit http://phillytodo.com/e
 vents/winterfest-live-2018
DTSTART:20180217T200000Z
DTEND:20180218T000000Z
CATEGORIES:beer, fest
LOCATION:XFINITY Live! Philadelphia
WEBSITE:http://www.xfinitylive.com/entertainment/event/11594
URL:http://www.xfinitylive.com/entertainment/event/11594
CONTACT:
ORGANIZER;CN="XFINITY Live! Philadelphia":http://phillytodo.com/profil
 e/XFINITYLivePhiladelphia
ATTACH;FMTTYPE="image/jpeg":http://storage.ning.com/topology/rest/1.0/
 file/get/3055009983?profile=original
ATTENDEE;ROLE=REQ-PARTICIPANT;PARTSTAT=ACCEPTED;RSVP=TRUE;CN="XFINITY 
 Live! Philadelphia":http://phillytodo.com/profile/XFINITYLivePhiladelp
 hia
END:VEVENT
END:VCALENDAR
