BEGIN:VCALENDAR
PRODID:NingEventWidget-v1
VERSION:2.0
METHOD:PUBLISH
BEGIN:VEVENT
UID:4320450:Event:48702
DTSTAMP:20260425T144255Z
SUMMARY:Winterfest Live! 2017
DESCRIPTION:Winterfest Live! is back at XFINITY Live! Join us on Satur
 day, January 28th for The Great Philadelphia Winter Craft Beer Festiva
 l celebration!\nGrab your friends and listen to live bands all day wit
 h unlimited samplings of 150+ great beers from 75+ breweries.\nEnjoy w
 inter-warmup lagers, porters, and stouts in your own custom stein.\nPl
 us a day filled with live DJs, amazing bands, super-fun contests in Vi
 ctory Beer Hall, outdoor fire pits, games, activities, prizes, and giv
 eaways.\nShare and post your pictures using #WinterfestLive throughout
  the day! - See more at: http://www.xfinitylive.com/entertainment/even
 t/10683#sthash.Tv1AjWaZ.dpuf\n\nFor more information visit http://phil
 lytodo.com/events/winterfest-live-2017
DTSTART:20170128T200000Z
DTEND:20170129T000000Z
CATEGORIES:beer, festival
LOCATION:Xfinity Live!
WEBSITE:http://www.xfinitylive.com/entertainment/event/10683
URL:http://www.xfinitylive.com/entertainment/event/10683
CONTACT:
ORGANIZER;CN="XFINITY Live! Philadelphia":http://phillytodo.com/profil
 e/XFINITYLivePhiladelphia
ATTACH;FMTTYPE="image/jpeg":http://storage.ning.com/topology/rest/1.0/
 file/get/3055001378?profile=original
ATTENDEE;ROLE=REQ-PARTICIPANT;PARTSTAT=ACCEPTED;RSVP=TRUE;CN="XFINITY 
 Live! Philadelphia":http://phillytodo.com/profile/XFINITYLivePhiladelp
 hia
END:VEVENT
END:VCALENDAR
