BEGIN:VCALENDAR
PRODID:NingEventWidget-v1
VERSION:2.0
METHOD:PUBLISH
BEGIN:VEVENT
UID:4320450:Event:39505
DTSTAMP:20260425T143419Z
SUMMARY:Winterfest Live! 2014 - The Great Philadelphia Winter Beer Fes
 tival
DESCRIPTION:AnnouncingÂ WinterfestÂ Live! 2014, The Great Philadelphia
 Â WinterÂ Craft Beer Festival celebration at the incredible XFINITY Li
 ve! Philadelphia - complete with beer gardens, 6 spectacular areas wit
 h 150+ beers to taste, music, and MUCH MORE!Â  Grab some friends and c
 ome on out for great day of amazing beer-drinking fun.Â  FULL DETAILS 
 are on our website - Tons of features!\nÂ \nListen to live bands all d
 ay with unlimited samplings of 150+ great beers from 75+ breweries (ye
 s, many awesomeÂ winter-warmup lagers, porters, and stouts will be inc
 luded) in your own custom stein (served by XFINITY beer goddesses), ac
 cess to Victory Lodge plus 5 other specialty areas, access to The Bour
 bon Barn and The Whiskey Lounge with whiskey samples, bourbon beers & 
 hard ciders, a specialty stout & porter area, live DJs, amazing bands,
  super-fun contests in Victory Beer Hall, outdoor fire pits, games, ac
 tivities, prizes, and giveaways.Â  PLUS (if you can believe it) MORE!Â
   Free Parking - see website for details.\n\nFor more information visi
 t http://phillytodo.com/events/winterfest-live-2014-the-great-philadel
 phia-winter-beer-festival
DTSTART:20150117T190000Z
DTEND:20150118T000000Z
CATEGORIES:beer, tasting
LOCATION:XFINITY Live!
WEBSITE:http://www.upcomingevents.com/philadelphia/xfinity-live/winter
 fest/ptodo/
URL:http://www.upcomingevents.com/philadelphia/xfinity-live/winterfest
 /ptodo/
CONTACT:2155894163
ORGANIZER;CN="UpcomingEvents.com":http://phillytodo.com/profile/Upcomi
 ngEventscom
ATTACH;FMTTYPE="image/jpeg":http://storage.ning.com/topology/rest/1.0/
 file/get/3054983941?profile=original
ATTENDEE;ROLE=REQ-PARTICIPANT;PARTSTAT=ACCEPTED;RSVP=TRUE;CN="Upcoming
 Events.com":http://phillytodo.com/profile/UpcomingEventscom
END:VEVENT
END:VCALENDAR
