BEGIN:VCALENDAR
PRODID:NingEventWidget-v1
VERSION:2.0
METHOD:PUBLISH
BEGIN:VEVENT
UID:4320450:Event:59604
DTSTAMP:20260425T145340Z
SUMMARY:Winterfest for Wildlife: A Fundraiser for the Wildlife Clinic
DESCRIPTION:It’s a day of wildlife-themed fun: face-painting, nature
  crafts, winter wildlife hikes, and talks on both urban wildlife and h
 ow animals survive winter. As the event supports our Wildlife Clinic, 
 check out our website for suggestions on gifts to bring for our wild p
 atients. A limited number of time-stamped tickets for behind-the-scene
 s tours of the clinic will be available on a first-come, first-served 
 basis.\n\nFor more information visit http://phillytodo.com/events/wint
 erfest-for-wildlife-a-fundraiser-for-the-wildlife-clinic
DTSTART:20200201T170000Z
DTEND:20200201T210000Z
CATEGORIES:fundraiser
LOCATION:the Schuylkill Center
WEBSITE:http://www.schuylkillcenter.org/blog/event/winterfest-for-wild
 life-a-fundraiser-for-the-wildlife-clinic/
URL:http://www.schuylkillcenter.org/blog/event/winterfest-for-wildlife
 -a-fundraiser-for-the-wildlife-clinic/
CONTACT:
ORGANIZER;CN="The Schuylkill Center":http://phillytodo.com/profile/Ann
 aLehrMueser
ATTACH;FMTTYPE="image/jpeg":
ATTENDEE;ROLE=REQ-PARTICIPANT;PARTSTAT=ACCEPTED;RSVP=TRUE;CN="The Schu
 ylkill Center":http://phillytodo.com/profile/AnnaLehrMueser
END:VEVENT
END:VCALENDAR
