BEGIN:VCALENDAR
PRODID:NingEventWidget-v1
VERSION:2.0
METHOD:PUBLISH
BEGIN:VEVENT
UID:4320450:Event:49108
DTSTAMP:20260425T124913Z
SUMMARY:WINTERFEST BREWFEST
DESCRIPTION:Tis the season to be enjoying great winter beers at Philad
 elphia's largest outdoor ice skating rink and winter wonderland. Come 
 down to Blue Cross RiverRink Winterfest January 21 & 22 for the Third
  Annual Winterfest Brewfest!\n\nLine-up of local and regional craft b
 rews \nFree Beer Samples: 4 - 4oz. complimentary samples per person\n
 Pay-As-You-Go Pints\nand Prizes!\n\n\n \nSaturday, January 21 - Two 
 Sessions\nFirst Session 1-4pm\n\nEvil Genius Brewing Co.\nSly Fox Brew
 ery\nQuaker City Malting Co.\n\nSecond Session 5-8pm\n\nHeavy Seas Be
 er\nWeyerbacher Brewing Co.\nTBD\nLive Music from Chelsea Reed and th
 e Fair Weather Five - 8pm-10pm\n\n \nSunday, January 22 - One session
 , 1-4pm\n\nDouble Nickel Brewing Co.\nYards Brewing Co.\nTroegs Brewin
 g Co.\nVictory Brewing Co.\n\n\nFor more information visit http://phil
 lytodo.com/events/winterfest-brewfest
DTSTART:20170121T180000Z
DTEND:20170123T010000Z
CATEGORIES:brewfest
LOCATION:Blue Cross RiverRink WinterFest
WEBSITE:http://www.delawareriverwaterfront.com/events/winterfest-brewf
 est3
URL:http://www.delawareriverwaterfront.com/events/winterfest-brewfest3
CONTACT:2159236533
ORGANIZER;CN="Delaware River Waterfront Corp.":http://phillytodo.com/p
 rofile/DelawareRiverWaterfrontCorp
ATTACH;FMTTYPE="image/jpeg":http://storage.ning.com/topology/rest/1.0/
 file/get/3054998847?profile=original
ATTENDEE;ROLE=REQ-PARTICIPANT;PARTSTAT=ACCEPTED;RSVP=TRUE;CN="Delaware
  River Waterfront Corp.":http://phillytodo.com/profile/DelawareRiverWa
 terfrontCorp
END:VEVENT
END:VCALENDAR
