BEGIN:VCALENDAR
PRODID:NingEventWidget-v1
VERSION:2.0
METHOD:PUBLISH
BEGIN:VEVENT
UID:4320450:Event:48228
DTSTAMP:20260425T133306Z
SUMMARY:Winterfest at King of Prussia Town Center
DESCRIPTION:Celebrate the season at the King of Prussia Town Center’
 s inaugural Winterfest on Saturday, December 10th from 10:30 am –
  4 pm! Bring friends and family to experience all that the brand-new T
 own Center has to offer while enjoying local school choir performances
 , ice sculptures from Fear No Ice, winter-themed activities, a cookie 
 decorating and hot chocolate station by Davio’s North American Steak
 house and much more! Sample the area’s newest restaurants such as F
 ogo De Chao, b.good, Paladar Latin Kitchen, City Works and honeygrow w
 hile checking items off your holiday shopping list. Plus, give back b
 y donating a winter coat to Winterfest’s charity partner, Cradles fo
 r Crayons. Santa will be visiting the Town Center at 2:30pm. \n\nFor
  more information visit http://phillytodo.com/events/winterfest-at-kin
 g-of-prussia-town-center
DTSTART:20161210T153000Z
DTEND:20161210T210000Z
CATEGORIES:festival
LOCATION:King of Prussia Town Center
WEBSITE:http://www.facebook.com/events/1303486219682091/13034862430154
 22/?notif_t=like&notif_id=1479416642661958
URL:http://www.facebook.com/events/1303486219682091/1303486243015422/?
 notif_t=like&notif_id=1479416642661958
CONTACT:212-627-0850
ORGANIZER;CN=CashmanAssoc:http://phillytodo.com/profile/CashmanAssoc
ATTACH;FMTTYPE="image/jpeg":
ATTENDEE;ROLE=REQ-PARTICIPANT;PARTSTAT=ACCEPTED;RSVP=TRUE;CN=CashmanAs
 soc:http://phillytodo.com/profile/CashmanAssoc
END:VEVENT
END:VCALENDAR
