BEGIN:VCALENDAR
PRODID:NingEventWidget-v1
VERSION:2.0
METHOD:PUBLISH
BEGIN:VEVENT
UID:4320450:Event:53307
DTSTAMP:20260425T145006Z
SUMMARY:Winterfest at King of Prussia Town Center
DESCRIPTION:Celebrate the season at the King of Prussia Town Center’
 s second-annual Winterfest on Saturday, December 2nd from 10 – 2 pm
 ! Bring friends and family to experience all that the Town Center has
  to offer while enjoying local school choir performances, ice sculptur
 es, winter-themed activities, a cookie decorating and hot chocolate st
 ation and much more! Sample the area’s newest restaurants while che
 cking items off your holiday shopping list. Plus, give back by donatin
 g a winter coat to Winterfest’s charity partner, Cradles for Crayons
 . Santa will be visiting the Town Center at 12:30pm.\n\nFor more info
 rmation visit http://phillytodo.com/events/winterfest-at-king-of-pruss
 ia-town-center-1
DTSTART:20171202T150000Z
DTEND:20171202T190000Z
CATEGORIES:holiday, festival
LOCATION:King of Prussia Town Center
WEBSITE:https://www.facebook.com/events/291353544701185/
URL:https://www.facebook.com/events/291353544701185/
CONTACT:2156271060
ORGANIZER;CN=CashmanAssoc:http://phillytodo.com/profile/CashmanAssoc
ATTACH;FMTTYPE="image/jpeg":http://storage.ning.com/topology/rest/1.0/
 file/get/3055009729?profile=original
ATTENDEE;ROLE=REQ-PARTICIPANT;PARTSTAT=ACCEPTED;RSVP=TRUE;CN=CashmanAs
 soc:http://phillytodo.com/profile/CashmanAssoc
END:VEVENT
END:VCALENDAR
