BEGIN:VCALENDAR
PRODID:NingEventWidget-v1
VERSION:2.0
METHOD:PUBLISH
BEGIN:VEVENT
UID:4320450:Event:48345
DTSTAMP:20260425T124848Z
SUMMARY:Winter Break Camp
DESCRIPTION:Join us for Winter Break this December! With no leaves on 
 the trees, it’s possible to see slopes, hills, and valleys that are 
 usually hidden to us. We’ll explore these spots and find new favorit
 es in the winter forest.  Sign up for one day or the whole week!\nSch
 edule\nCamps run 8:00 – 3:00 pm.  Extended day until 6:00 pm is ava
 ilable for an additional $15/day.\nRegistration\nMembers: $52 | Non-me
 mbers: $62 Programs with a field trip may include an additional fee.\n
 Register online here.\nDay-Off Camps\nKids have the day off and you do
 n’t? Check out our Day-Off Camps!\n\nFor more information visit http
 ://phillytodo.com/events/winter-break-camp
DTSTART:20161227T130000Z
DTEND:20161230T200000Z
CATEGORIES:camp
LOCATION:Schuylkill Center for Environmental Education
WEBSITE:http://www.schuylkillcenter.org/blog/event/winter-break-camp-3
 /
URL:http://www.schuylkillcenter.org/blog/event/winter-break-camp-3/
CONTACT:215-482-7300
ORGANIZER;CN="The Schuylkill Center":http://phillytodo.com/profile/Ann
 aLehrMueser
ATTACH;FMTTYPE="image/jpeg":
ATTENDEE;ROLE=REQ-PARTICIPANT;PARTSTAT=ACCEPTED;RSVP=TRUE;CN="The Schu
 ylkill Center":http://phillytodo.com/profile/AnnaLehrMueser
END:VEVENT
END:VCALENDAR
