BEGIN:VCALENDAR
PRODID:NingEventWidget-v1
VERSION:2.0
METHOD:PUBLISH
BEGIN:VEVENT
UID:4320450:Event:53205
DTSTAMP:20260425T125031Z
SUMMARY:Winter Birdseed Sale
DESCRIPTION:Save on birdseed, seed mixes, and suet—in quantities fro
 m 4-50 lb. bags. Schuylkill Center members receive 20% off birdseed an
 d non-members receive 10% off birdseed. To ensure you get the quantity
  of birdseed you need place your order in advance by calling 215-482-7
 300, x 127 by Friday, November 17. While you’re picking up your bird
 seed stop in and browse the Schuylkill Center's great selection of bir
 d feeders, birdhouses and nature gifts.\nMore on birdseed here. \nDo
 wnload the birdseed sale order form here: Schuylkill Center December 
 2017 Birdseed Sale.\n\nFor more information visit http://phillytodo.co
 m/events/winter-birdseed-sale-1
DTSTART:20171202T140000Z
DTEND:20171202T210000Z
CATEGORIES:special, sale
LOCATION:Schuylkill Center for Environmental Education
WEBSITE:http://www.schuylkillcenter.org/blog/event/december-birdseed-s
 ale-2/
URL:http://www.schuylkillcenter.org/blog/event/december-birdseed-sale-
 2/
CONTACT:2154827300
ORGANIZER;CN="The Schuylkill Center":http://phillytodo.com/profile/Ann
 aLehrMueser
ATTACH;FMTTYPE="image/jpeg":http://storage.ning.com/topology/rest/1.0/
 file/get/3055009733?profile=original
ATTENDEE;ROLE=REQ-PARTICIPANT;PARTSTAT=ACCEPTED;RSVP=TRUE;CN="The Schu
 ylkill Center":http://phillytodo.com/profile/AnnaLehrMueser
END:VEVENT
END:VCALENDAR
