BEGIN:VCALENDAR
PRODID:NingEventWidget-v1
VERSION:2.0
METHOD:PUBLISH
BEGIN:VEVENT
UID:4320450:Event:38901
DTSTAMP:20260425T132529Z
SUMMARY:Winter Bird Census
DESCRIPTION:Interested in birding but overwhelmed by the prospect of g
 etting started?  We pair experienced birders with beginners, making t
 he Winter Bird Census a great opportunity to learn to recognize local 
 birds and to help the Schuylkill Center collect valuable information
  on the birds that live here in winter.  Hot beverages and light sna
 cks provided.\nFree\n\nFor more information visit http://phillytodo.co
 m/events/winter-bird-census
DTSTART:20150103T130000Z
DTEND:20150103T163000Z
CATEGORIES:hike, "bird count,"
LOCATION:The Schuylkill Center for Environmental Education
WEBSITE:http://www.schuylkillcenter.org/
URL:http://www.schuylkillcenter.org/
CONTACT:215-482-7300, x110
ORGANIZER;CN="The Schuylkill Center":http://phillytodo.com/profile/Ann
 aLehrMueser
ATTACH;FMTTYPE="image/jpeg":http://storage.ning.com/topology/rest/1.0/
 file/get/3054981031?profile=original
ATTENDEE;ROLE=REQ-PARTICIPANT;PARTSTAT=ACCEPTED;RSVP=TRUE;CN="The Schu
 ylkill Center":http://phillytodo.com/profile/AnnaLehrMueser
END:VEVENT
END:VCALENDAR
