BEGIN:VCALENDAR
PRODID:NingEventWidget-v1
VERSION:2.0
METHOD:PUBLISH
BEGIN:VEVENT
UID:4320450:Event:59402
DTSTAMP:20260425T124846Z
SUMMARY:Winter Bird Cencus
DESCRIPTION:With leaves falling and the forest turning into a blanket 
 of white snow, it becomes a great time for bird watching. Birds need t
 o be active and feeding in order to stay warm in blistering winter tem
 peratures, and the contrast of their feathers against the white snow a
 nd bare trees makes them easier to observe along our trails. In our an
 nual census, we’ll monitor the abundance of bird species that winter
  in our forests and fields. All of the information we collect will be 
 shared with other citizen scientists, helping us to better understand 
 how our local bird populations change over time. Warm drinks and snack
 s provided. Registration is appreciated. In the event of heavy rain or
  snow, the census will be rescheduled for Saturday, January 25.\n\nFor
  more information visit http://phillytodo.com/events/winter-bird-cencu
 s
DTSTART:20200111T130000Z
DTEND:20200111T163000Z
CATEGORIES:bird, watching
LOCATION:the Schuylkill Center
WEBSITE:http://www.schuylkillcenter.org/blog/event/winter-bird-census-
 9/
URL:http://www.schuylkillcenter.org/blog/event/winter-bird-census-9/
CONTACT:215-482-7300
ORGANIZER;CN="The Schuylkill Center":http://phillytodo.com/profile/Ann
 aLehrMueser
ATTACH;FMTTYPE="image/jpeg":
ATTENDEE;ROLE=REQ-PARTICIPANT;PARTSTAT=ACCEPTED;RSVP=TRUE;CN="The Schu
 ylkill Center":http://phillytodo.com/profile/AnnaLehrMueser
END:VEVENT
END:VCALENDAR
