BEGIN:VCALENDAR
PRODID:NingEventWidget-v1
VERSION:2.0
METHOD:PUBLISH
BEGIN:VEVENT
UID:4320450:Event:2007
DTSTAMP:20260425T125003Z
SUMMARY:Wing Chun Kung Fu Convention
DESCRIPTION:We have our First Wing Chun Kung Fu Convention at the Tump
  Taj Mahal Student Registration (Early Bird July / Aug ) 75.00 for 2 d
 ays Oct 23,24th\n\nPlay Celebrity Poker with Grand Master Sifu Chow\n\
 nOn the agenda not in any set order.\n\nPublic Demonstration -\n(the 3
  forms, weapon's, wooden dummy.)\n\nPrivate Seminar's Done by world fa
 mous Wing Chun Masters.\n\nMeet other Wing Chun Followers , and develo
 p friendship.\nChi Sao Competition Student Only\n( judged by multiple 
 sifu)\n\nPre Events Oct 22 Celebrity Poker Tournament - Featuring Mast
 er Wing Chun Sifu.\nMedia Coverage , ESPN, News, TV.\nVIP DINNER - OCT
  22 Additional $99.00\nSchool Free Style Competition - , Solo, Double 
 , or other School Demonstration.\n\nAll Chinese Kung Fu Style welcome.
 \nKids Wing Chun Kung Fu & Chinese Kung Fu Forms and Demonstration\n\n
 Wing Chun Convention Oct 22nd, Oct 23rd, Oct 24th Tump Taj Mahal\nWe h
 ave our First Wing Chun Convention\nOctober 22nd (VIP) 23rd, 24th - 20
 10\n\nFor more information call sifu cliff 609-665-3889\nAll of this f
 or only $75.00\n\n\n\n\n\n\nWing Chun Kung Fu Convention\nFriday, Octo
 ber 22, 2010 6:00 PM - Sunday, October 24, 2010 5:00 PM (Eastern Time)
 \nTrump Taj Mahal\n1000 Boardwalk\nThe Arena\nAtlantic City, New Jerse
 y 08401\nUnited States\n\nFor more information visit http://phillytodo
 .com/events/wing-chun-kung-fu-convention
DTSTART:20101022T220000Z
DTEND:20101024T230000Z
CATEGORIES:kung, fu, convention
LOCATION:Trump Taj Mahal Main Arena
WEBSITE:http://www.regonline.com/register/checkin.aspx?EventId=867295
URL:http://www.regonline.com/register/checkin.aspx?EventId=867295
CONTACT:609-665-3889
ORGANIZER:sifu cliff
ATTACH;FMTTYPE="image/jpeg":http://storage.ning.com/topology/rest/1.0/
 file/get/3054950081?profile=original
ATTENDEE;ROLE=REQ-PARTICIPANT;PARTSTAT=ACCEPTED;RSVP=TRUE;CN="james je
 fferson":http://phillytodo.com/profile/jamesjefferson
END:VEVENT
END:VCALENDAR
