BEGIN:VCALENDAR
PRODID:NingEventWidget-v1
VERSION:2.0
METHOD:PUBLISH
BEGIN:VEVENT
UID:4320450:Event:36898
DTSTAMP:20260425T160042Z
SUMMARY:Wineberry Harvest
DESCRIPTION:Beat the catbirds and robins to this summer treat – and
  help reduce invasive species in our forests! Picking wineberries alo
 ng the trails is a summertime tradition at the Schuylkill Center. We 
 invite you to bring your family and your pails to join us in gatherin
 g these sweet and delicious gems of summer. Take home your harvest a
 nd make wineberry pies, muffins and pancakes or simply eat them fresh
  from the bramble – they are delicious! We will gather at the mai
 n building before hitting the trails.\nFree!\n\nFor more information v
 isit http://phillytodo.com/events/wineberry-harvest
DTSTART:20140705T140000Z
DTEND:20140705T160000Z
CATEGORIES:walk
LOCATION:The Schuylkill Center for Environmental Education
WEBSITE:http://www.schuylkillcenter.org
URL:http://www.schuylkillcenter.org
CONTACT:215-482-7300
ORGANIZER;CN="The Schuylkill Center":http://phillytodo.com/profile/Ann
 aLehrMueser
ATTACH;FMTTYPE="image/jpeg":http://storage.ning.com/topology/rest/1.0/
 file/get/3054979218?profile=original
ATTENDEE;ROLE=REQ-PARTICIPANT;PARTSTAT=ACCEPTED;RSVP=TRUE;CN="The Schu
 ylkill Center":http://phillytodo.com/profile/AnnaLehrMueser
END:VEVENT
END:VCALENDAR
