BEGIN:VCALENDAR
PRODID:NingEventWidget-v1
VERSION:2.0
METHOD:PUBLISH
BEGIN:VEVENT
UID:4320450:Event:55315
DTSTAMP:20260425T112437Z
SUMMARY:Wine Tasting &amp; Pasta Making
DESCRIPTION:Enjoy an exclusive opportunity to go into the kitchen of 
 Scarpetta Philadelphia with Executive Chef Michael Loughlin for an in
 timate pasta-making demonstration and tasting. For $75 per person, gue
 sts can learn how to hand-make Scarpetta's signature spaghetti from sc
 ratch while sipping on fine wine, indulging in light canapes and enjoy
 ing a behind the scenes tour of Scarpetta's state-of-the-art kitchen -
  all you need to bring with you is an appetite!\n \nClasses are bein
 g held once per month from 11:00 a.m. – 2:00 p.m on August 18, S
 eptember 22, October 20,November 17 and December 1. Mangiare!\n\nFo
 r more information visit http://phillytodo.com/events/wine-tasting-amp
 -pasta-making
DTSTART:20180818T150000Z
DTEND:20180818T180000Z
CATEGORIES:dining
LOCATION:Scarpetta Philadelphia
WEBSITE:http://www.scarpettarestaurants.com/philadelphia
URL:http://www.scarpettarestaurants.com/philadelphia
CONTACT:12155584199 x354
ORGANIZER:
ATTACH;FMTTYPE="image/jpeg":http://storage.ning.com/topology/rest/1.0/
 file/get/3055013795?profile=original
ATTENDEE;ROLE=REQ-PARTICIPANT;PARTSTAT=ACCEPTED;RSVP=TRUE;CN=CashmanAs
 soc:http://phillytodo.com/profile/CashmanAssoc
END:VEVENT
END:VCALENDAR
