BEGIN:VCALENDAR
PRODID:NingEventWidget-v1
VERSION:2.0
METHOD:PUBLISH
BEGIN:VEVENT
UID:4320450:Event:52914
DTSTAMP:20260425T114106Z
SUMMARY:Wine Make and Take
DESCRIPTION:Join us for a fun evening of wine-themed crafting with De
 nise Sabia, DIYer, house flipper and designer behind The Painted Home.
  As seen on CBS, FOX and ABC, Denise will host workshops for creating 
 your very own chalkboard art canvas. \nPlus, enjoy wine by The Pinot
  Boutique and Vindrea Wines and cheese while you craft! \nTickets are
  $5.00 and includes instruction and all materials needed. Guests must 
 by 21 to attend. \nChoose from one of the following workshop times at
  check-out:\n\n5:15pm \n5:45pm \n6:15pm \n6:45pm \n\n\nFor more in
 formation visit http://phillytodo.com/events/wine-make-and-take
DTSTART:20171107T220000Z
DTEND:20171108T000000Z
CATEGORIES:wine, and, art
LOCATION:The Market and Shops at Comcast Center
WEBSITE:
URL:
CONTACT:
ORGANIZER;CN=CashmanAssoc:http://phillytodo.com/profile/CashmanAssoc
ATTACH;FMTTYPE="image/jpeg":http://storage.ning.com/topology/rest/1.0/
 file/get/3055009879?profile=original
ATTENDEE;ROLE=REQ-PARTICIPANT;PARTSTAT=ACCEPTED;RSVP=TRUE;CN=CashmanAs
 soc:http://phillytodo.com/profile/CashmanAssoc
END:VEVENT
END:VCALENDAR
