BEGIN:VCALENDAR
PRODID:NingEventWidget-v1
VERSION:2.0
METHOD:PUBLISH
BEGIN:VEVENT
UID:4320450:Event:3844
DTSTAMP:20260425T143455Z
SUMMARY:WIN a free Photography Session!
DESCRIPTION:Renowned Pennsylvania-based photographer Rosemary Tagliala
 tela of 2DaysPhotos (www.2daysphotos.com) knows exactly how a woman fe
 els and what a woman wants. Rosemary Taglialatela is holding the \"Ess
 ence of a Woman\" promotion to capture the beauty of women in all stag
 es of life and inspire women to see their true beauty. The \"Essence o
 f a Woman\" promotion offers a photography package for women to feel e
 mpowered, enlightened, and truly beautiful and one special woman will 
 win one of these remarkable photography experiences.\n\"As a woman I h
 ave been through many stages of my own life already and I believe it g
 ives me a special connection and insight with women,\" says Rosemary, 
 \"I love capturing and preserving the inner and outer beauty of women.
  These photographs empower women and document an instant in time and a
  memory to be enjoyed by loved ones.\"\nThe Essence of a Woman promoti
 on offers two specially priced packages. Women can choose either a per
 sonal forty-five minute session or one hour and a half session in a re
 laxed and professional setting with Rosemary Taglialatela. The forty-f
 ive minute session offers one 8x10 print. The hour and a half session 
 sitting offers one 8x10 print plus a mini-book containing eight edited
  images. For an incredible value, women will have a memorable and empo
 wering yet fun experience as Rosemary captures their true beauty and e
 ssence. **Women can enter to win the forty-five minute session and one
  8x10 print \"Essence of a Woman\" photography package on http://www.2
 daysphotos.com Use the contact us form and title your email Essence of
  a woman. Dec 20th drawing.  Winner must schedule and hold session at
  studio by the last day of March 2011.\nRosemary is known for her uniq
 ue ability to relax her clients and help them to “be themselves” i
 n front of the camera. Clients come away feeling energized and wanting
  to work with her again and again.\nWith her primary focus on corporat
 e, commercial, editorial, family portraiture, Rosemary Taglialatela of
  2Days Photos specializes in Rare Impressionistic Fine Art Images, Hig
 h End and Old World Look Portraiture, Beautiful Artistic Wedding Image
 s, Editorial, Product, Headshots, Portraiture, Portfolios, Pin-up, Bou
 doir, and Wedding Fashion.\n\"I love the look of chrome on old cars, t
 he twinkle in babies eye, the strength in a man’s face, the beauty o
 f a woman, color of a flower and the setting sun. More so than anythin
 g else I love photographing women and to bring out their beauty,\" say
 s Rosemary.\n \n\n\nFor more information visit http://phillytodo.com/
 events/win-a-free-photography-session
DTSTART:20101213T110000Z
DTEND:20101221T000000Z
CATEGORIES:savings, sale, specials, photography
LOCATION:Warrington PA  18976
WEBSITE:http://www.2daysphotos.com
URL:http://www.2daysphotos.com
CONTACT:215-918-1281
ORGANIZER;CN="Rosemary Taglialatela":http://phillytodo.com/profile/Ros
 emary
ATTACH;FMTTYPE="image/jpeg":http://storage.ning.com/topology/rest/1.0/
 file/get/3054951729?profile=original
ATTENDEE;ROLE=REQ-PARTICIPANT;PARTSTAT=ACCEPTED;RSVP=TRUE;CN="Rosemary
  Taglialatela":http://phillytodo.com/profile/Rosemary
END:VEVENT
END:VCALENDAR
