BEGIN:VCALENDAR
PRODID:NingEventWidget-v1
VERSION:2.0
METHOD:PUBLISH
BEGIN:VEVENT
UID:4320450:Event:168096
DTSTAMP:20260425T100401Z
SUMMARY:Willow Grove Park Mall Hosts A Diaper Drive
DESCRIPTION:Willow Grove Park Mall has partnered with The Greater Phi
 ladelphia Diaper Bank to support local families that are experiencing
  a diaper need. Every baby should be clean, dry, healthy and happy.\nD
 iaper donations can be dropped off at LOFT and Gap Kids through Su
 nday, May 16 during normal mall hours. We are accepting unopened diape
 rs of all sizes and brands for babies and toddlers.\nLOFT - Donate a b
 ox of diapers and receive 15% off your full-price purchase (excludin
 g Lou & Grey).\nGap Kids - Donate a box of diapers and receive 10% of
 f your entire purchase! \n\nFor more information visit http://phillyt
 odo.com/events/willow-grove-park-mall-hosts-a-diaper-drive
DTSTART:20210420T140000Z
DTEND:20210516T220000Z
CATEGORIES:charity, event
LOCATION:Willow Grove Park Mall
WEBSITE:https://willowgroveparkmall.com/
URL:https://willowgroveparkmall.com/
CONTACT:(215) 657-6000
ORGANIZER;CN=CashmanAssoc:http://phillytodo.com/profile/CashmanAssoc
ATTACH;FMTTYPE="image/jpeg":https://storage.ning.com/topology/rest/1.0
 /file/get/8816671869?profile=original
ATTENDEE;ROLE=REQ-PARTICIPANT;PARTSTAT=ACCEPTED;RSVP=TRUE;CN=CashmanAs
 soc:http://phillytodo.com/profile/CashmanAssoc
END:VEVENT
END:VCALENDAR
