BEGIN:VCALENDAR
PRODID:NingEventWidget-v1
VERSION:2.0
METHOD:PUBLISH
BEGIN:VEVENT
UID:4320450:Event:56274
DTSTAMP:20260425T114108Z
SUMMARY:Wicked 2018
DESCRIPTION:Let your inner evil come out this Halloween at Xfinity Liv
 e! during our \"Wicked 2018\" bash on Friday, October 26!Featuring mul
 tiple DJ's and a live performance from Bangarang!Show us what you've g
 ot and wear your best costume for your chance to win $$$ and prizes!Ti
 cket includes: cover charge, 1 FREE drink ticket and admission to cost
 ume contests!Party starts at 8PM on Friday, October 26--see you there!
 \n\nFor more information visit http://phillytodo.com/events/wicked-201
 8
DTSTART:20181027T000000Z
DTEND:20181027T060000Z
CATEGORIES:halloween, party
LOCATION:Xfinity Live!
WEBSITE:http://www.upcomingevents.com/e/wicked-6-evil-parties-under-on
 e-roof-36536/?ref=fbevent
URL:http://www.upcomingevents.com/e/wicked-6-evil-parties-under-one-ro
 of-36536/?ref=fbevent
CONTACT:
ORGANIZER;CN="XFINITY Live! Philadelphia":http://phillytodo.com/profil
 e/XFINITYLivePhiladelphia
ATTACH;FMTTYPE="image/jpeg":http://storage.ning.com/topology/rest/1.0/
 file/get/3055015384?profile=original
ATTENDEE;ROLE=REQ-PARTICIPANT;PARTSTAT=ACCEPTED;RSVP=TRUE;CN="XFINITY 
 Live! Philadelphia":http://phillytodo.com/profile/XFINITYLivePhiladelp
 hia
END:VEVENT
END:VCALENDAR
