BEGIN:VCALENDAR
PRODID:NingEventWidget-v1
VERSION:2.0
METHOD:PUBLISH
BEGIN:VEVENT
UID:4320450:Event:42012
DTSTAMP:20260425T143123Z
SUMMARY:Whoopi Goldberg at Valley Forge Music Fair
DESCRIPTION:Valley Forge Casino Resort hosts award-winning comedian, a
 ctor, producer and author Whoopi Goldberg on Saturday, October 10, 201
 5 at 8:00pm (doors open 7:00pm) during Valley Forge Music Fair. Goldbe
 rg will perform her stand-up comedy show with a performance that is ra
 w, hilarious and overall fantastic. Her consistent interaction with th
 e audience and authentic spirit will make this intimate evening an unf
 orgettable experience. Tickets are on sale for $62 to $85 on Ticketmas
 ter.\n\nFor more information visit http://phillytodo.com/events/whoopi
 -goldberg-at-valley-forge-music-fair
DTSTART:20151011T000000Z
DTEND:20151011T030000Z
CATEGORIES:live, performance
LOCATION:Valley Forge Casino Resort
WEBSITE:
URL:
CONTACT:
ORGANIZER;CN="Aversa PR & Events":http://phillytodo.com/profile/KoryAv
 ersa277
ATTACH;FMTTYPE="image/jpeg":http://storage.ning.com/topology/rest/1.0/
 file/get/3054990154?profile=original
ATTENDEE;ROLE=REQ-PARTICIPANT;PARTSTAT=ACCEPTED;RSVP=TRUE;CN="Aversa P
 R & Events":http://phillytodo.com/profile/KoryAversa277
END:VEVENT
END:VCALENDAR
