BEGIN:VCALENDAR
PRODID:NingEventWidget-v1
VERSION:2.0
METHOD:PUBLISH
BEGIN:VEVENT
UID:4320450:Event:40525
DTSTAMP:20260425T203405Z
SUMMARY:Who's Afraid of Virginia Woolf? by Edward Albee
DESCRIPTION:Marital strife has never been so wickedly fun -- or dysfun
 ctional. Theatre Exile presents Edward Albee’s Who’s Afraid of Vir
 ginia Woolf? from April 16-May 17 at Plays and Players Theater (1714 D
 elancey Place). After a faculty get-together, George and Martha invite
  their younger counterparts, Nick and Honey, over for a night-cap that
  spirals into an evening of wicked psychological games. Pearce Bunting
  (Boardwalk Empire), Catharine Slusar, Emilie Krause and Jake Blouch t
 ake the stage in Edward Albee’s cultural landmark that has been rive
 ting audiences for over 50 years and ruthlessly tears down the façade
  of the American family. Who’s Afraid of Virginia Woolf? is directed
  by Joe Canuso and supported by Executive Producers The Wyncote Founda
 tion. Show times vary by day. Tickets are $10-40 and available by call
 ing (215) 218-4022 and visiting www.theatreexile.org.\n\nFor more info
 rmation visit http://phillytodo.com/events/who-s-afraid-of-virginia-wo
 olf-by-edward-albee
DTSTART:20150416T230000Z
DTEND:20150518T020000Z
CATEGORIES:theatre
LOCATION:Plays & Players Theater
WEBSITE:http://www.theatreexile.org/episodes/whos-afraid-virginia-wool
 f.html
URL:http://www.theatreexile.org/episodes/whos-afraid-virginia-woolf.ht
 ml
CONTACT:215-218-4022
ORGANIZER;CN="Aversa PR & Events":http://phillytodo.com/profile/KoryAv
 ersa277
ATTACH;FMTTYPE="image/jpeg":http://storage.ning.com/topology/rest/1.0/
 file/get/3054987357?profile=original
ATTENDEE;ROLE=REQ-PARTICIPANT;PARTSTAT=ACCEPTED;RSVP=TRUE;CN="Aversa P
 R & Events":http://phillytodo.com/profile/KoryAversa277
END:VEVENT
END:VCALENDAR
