BEGIN:VCALENDAR
PRODID:NingEventWidget-v1
VERSION:2.0
METHOD:PUBLISH
BEGIN:VEVENT
UID:4320450:Event:56337
DTSTAMP:20260425T125923Z
SUMMARY:Wheel Throwing Sectional Pots Demonstration at the Clay Studio
DESCRIPTION:This workshop focuses on making taller and more complex fo
 rms on the wheel using a process called “stacking,” where two thro
 wn sections are joined together to make covered jars, pitchers, and bo
 ttles. Lids, pulled handles, and pitcher spouts are discussed and demo
 nstrated. You will also learn to make handmade brushes out of bamboo a
 nd deer tail.\n\nFor more information visit http://phillytodo.com/even
 ts/wheel-throwing-sectional-pots-demonstration-at-the-clay-studio
DTSTART:20181209T150000Z
DTEND:20181209T180000Z
CATEGORIES:demonstration
LOCATION:The Clay Studio
WEBSITE:https://public.theclaystudio.org/public/classdirect/2056
URL:https://public.theclaystudio.org/public/classdirect/2056
CONTACT:
ORGANIZER;CN="Bryan Chan":http://phillytodo.com/profile/BryanChan
ATTACH;FMTTYPE="image/jpeg":https://storage.ning.com/topology/rest/1.0
 /file/get/155032489?profile=original
ATTENDEE;ROLE=REQ-PARTICIPANT;PARTSTAT=ACCEPTED;RSVP=TRUE;CN="Bryan Ch
 an":http://phillytodo.com/profile/BryanChan
END:VEVENT
END:VCALENDAR
