BEGIN:VCALENDAR
PRODID:NingEventWidget-v1
VERSION:2.0
METHOD:PUBLISH
BEGIN:VEVENT
UID:4320450:Event:59024
DTSTAMP:20260425T124915Z
SUMMARY:WheatonArts Tour
DESCRIPTION:Discover glassworks at the WheatonArts and Cultural Center
  in Millville, N.J. Julie Courtney will conduct a curator’s tour of 
 Emanation in the Museum of American Glass, followed by a live glass-bl
 owing demonstration, and the final performance by Martha McDonald of P
 hantom Frequencies, a mini opera using glass instruments.\n \n \n\nF
 or more information visit http://phillytodo.com/events/wheatonarts-tou
 r
DTSTART:20191018T220000Z
DTEND:20191018T230000Z
CATEGORIES:arts, tour
LOCATION:Kimmel Center
WEBSITE:https://www.craftnowphila.org/wheatonarts/
URL:https://www.craftnowphila.org/wheatonarts/
CONTACT:215-717-6135
ORGANIZER:CraftNOW
ATTACH;FMTTYPE="image/jpeg":https://storage.ning.com/topology/rest/1.0
 /file/get/3668685571?profile=original
ATTENDEE;ROLE=REQ-PARTICIPANT;PARTSTAT=ACCEPTED;RSVP=TRUE;CN="Bryan Ch
 an":http://phillytodo.com/profile/BryanChan
END:VEVENT
END:VCALENDAR
