BEGIN:VCALENDAR
PRODID:NingEventWidget-v1
VERSION:2.0
METHOD:PUBLISH
BEGIN:VEVENT
UID:4320450:Event:24005
DTSTAMP:20260425T164436Z
SUMMARY:Whatâ€™s Not to Love?
DESCRIPTION:WHAT:Â Â Â Â Â Â Â Â  Bring your date to Davio's, Philadel
 phia's favorite Northern Italian Steakhouse, for a romantic rendezvous
  this Valentineâ€™s Day. Davioâ€™s is offering a special four-course p
 rix fixe menu including items such as the Crispy Fried Oyster, Lobster
  Ravioli, and Petite Filet Mignon for only $75.00 per person (tax and 
 gratuity not included). Forgetting the flowers and chocolate? Donâ€™t 
 stress. All guests will receive one complimentary flower and handmade 
 chocolates prepared by our Pastry Chef Thomas Heck to take home. Whatâ
 €™s not to love?Wine and dine at Davioâ€™s on Tuesday, February 14th, 
 2012. Reservations are required and can be made by calling 215-563-481
 0. Â WHERE:Â Â Â Â Â Â  Davio's Philadelphia | 111 South 17th Street, 
 Philadelphia, PA 19103 | 215-563-4810 | www.davios.com.Â WHEN:Â Â Â Â 
 Â Â Â Â Â Â  Tuesday, February 14th, 2012, from 5:00pm to 11:00pm.Â Va
 lentineâ€™s Day 2012â™¥â™¥â™¥ Seafood Salad, Crispy Oyster, Spicy Beef
  Tartar, Prosciutto Seared TunaÂ â™¥Â Lobster Ravioli, Papardelle Lamb
  Bolognese, Fennel SaladÂ â™¥Â Filet Mignon, Sole Wrapped Scallop, Cra
 b Risotto, Foie GrasÂ â™¥â™¥â™¥Â Dessert CartÂ COST:Â Â Â Â Â Â Â Â Â 
 Â Â Â  $75 Per Person. (Price does not include tax or gratuity). Reser
 vations are required. Please call 215-563-4810 for more information.\n
 \nFor more information visit http://phillytodo.com/events/what-s-not-t
 o-love
DTSTART:20120214T220000Z
DTEND:20120215T040000Z
CATEGORIES:"valentine's", day, celebration
LOCATION:Davio's Northern Italian Steakhouse
WEBSITE:http://www.davios.com
URL:http://www.davios.com
CONTACT:215-563-4810
ORGANIZER;CN="Juliette V":http://phillytodo.com/profile/JulietteV
ATTACH;FMTTYPE="image/jpeg":
ATTENDEE;ROLE=REQ-PARTICIPANT;PARTSTAT=ACCEPTED;RSVP=TRUE;CN="Juliette
  V":http://phillytodo.com/profile/JulietteV
END:VEVENT
END:VCALENDAR
