BEGIN:VCALENDAR
PRODID:NingEventWidget-v1
VERSION:2.0
METHOD:PUBLISH
BEGIN:VEVENT
UID:4320450:Event:54690
DTSTAMP:20260425T124907Z
SUMMARY:Wet Lab: Gallery Opening
DESCRIPTION:Throughout the summer, our art gallery will become Wet La
 b, a space for artists and Schuylkill Center visitors to explore and 
 reflect on water in a dynamic environment. In contrast to a more tradi
 tionally curated exhibition, the artists, art works, and projects on v
 iew will flow and shift throughout the summer. Artists will display co
 mpleted works along with works in progress, at times using the galler
 y as their studio to work through a new idea or test creative hypothes
 es. Step into the lab with us for a summer of experimentation, investi
 gation, observation, and more.\nOpening receptionMay 23, 2018, 6-8 pmL
 ight refreshments will be servedCurator and artist talks at 6:45 pm\n\
 nFor more information visit http://phillytodo.com/events/wet-lab-galle
 ry-opening
DTSTART:20180523T220000Z
DTEND:20180524T000000Z
CATEGORIES:art, opening
LOCATION:The Schuylkill Center for Environmental Education
WEBSITE:http://www.schuylkillcenter.org/blog/event/wet-lab-gallery-ope
 ning/
URL:http://www.schuylkillcenter.org/blog/event/wet-lab-gallery-opening
 /
CONTACT:215-482-7300
ORGANIZER;CN="The Schuylkill Center":http://phillytodo.com/profile/Ann
 aLehrMueser
ATTACH;FMTTYPE="image/jpeg":http://storage.ning.com/topology/rest/1.0/
 file/get/3055010245?profile=original
ATTENDEE;ROLE=REQ-PARTICIPANT;PARTSTAT=ACCEPTED;RSVP=TRUE;CN="The Schu
 ylkill Center":http://phillytodo.com/profile/AnnaLehrMueser
END:VEVENT
END:VCALENDAR
