BEGIN:VCALENDAR
PRODID:NingEventWidget-v1
VERSION:2.0
METHOD:PUBLISH
BEGIN:VEVENT
UID:4320450:Event:31430
DTSTAMP:20260425T114225Z
SUMMARY:West Philadelphia Orchestra
DESCRIPTION:Have you been craving some awesome Balkan dance music?  W
 ell here is your chance to get your fix.  Dancing shoes are a must fo
 r this group.  I'll be there burning a hole in the dance floor, all I
  wanna know is \"Who's coming with me?\"\n\nFor more information visit
  http://phillytodo.com/events/west-philadelphia-orchestra
DTSTART:20130405T020000Z
DTEND:20130405T060000Z
CATEGORIES:"http://www.westphiladelphiaorchestra.com/"
LOCATION:Underground Arts
WEBSITE:
URL:
CONTACT:
ORGANIZER;CN="Adam Rybarczyk @FoodPhreak":http://phillytodo.com/profil
 e/AdamRybarczyk
ATTACH;FMTTYPE="image/jpeg":
ATTENDEE;ROLE=REQ-PARTICIPANT;PARTSTAT=ACCEPTED;RSVP=TRUE;CN="Adam Ryb
 arczyk @FoodPhreak":http://phillytodo.com/profile/AdamRybarczyk
END:VEVENT
END:VCALENDAR
