BEGIN:VCALENDAR
PRODID:NingEventWidget-v1
VERSION:2.0
METHOD:PUBLISH
BEGIN:VEVENT
UID:4320450:Event:39002
DTSTAMP:20260425T112912Z
SUMMARY:WERK MONDAY LATE NIGHT INDUSTRY PARTY
DESCRIPTION:http://fusicology.com/events/?event_id=82405\n#philly MOND
 AY LATE NIGHT INDUSTRY PARTY VOYEUR NIGHTCLUB PHILADELPHIA RUBY LOUNGE
  at VOYEUR NIGHTCLUB DOOR AT 1AM\nMUSIC BY Venus Seven Divaofthedeep D
 iva of The Deep Fan Page\nWERKING AT THE BAR WITH Frankie Morelli & Ri
 ck McIntire\n\nABOUT WERK MONDAY NIGHT\nWERK \" that party is refunked
  and refined weekly MONDAY LATE NIGHT with the exclusive crowd who par
 ty in Philadelphia - NYC- NJ and beyond , MONDAYS NIGHT DEEP &UNDER GR
 OUND SOUND W/ A TWIST OF NEW REMIXES , CUTTING EDGE EXCLUSIVE PROMOS &
  BEYOND @ renowned ' club VOYEUR with the famous faces of the Philly p
 arty scene, Breathtaking - featuring VENUS7 DIVA OF THE DEEP , It's a 
 venue which needs to be seen to be believed, and with such a convenien
 t Philadelphia center city location, and exclusive crowd, we watch as 
 Philly 's top party crowds flock to \" WERK\" that party every Monday 
 Night. RSVP is highly recommend! come and Many thanks to those who had
  been WERKING WITH US SINCE DAY ONE ...NOW IT HAS BEEN 4 YEARS .. WE A
 RE GOING STRONGER THAN EVER !!! COME WERK that party with us !\n\nFor 
 more information visit http://phillytodo.com/events/werk-monday-late-n
 ight-industry-party
DTSTART:20141103T050000Z
DTEND:20141103T083000Z
CATEGORIES:after, hours, ".", industry, pay, club, dance
LOCATION:Voyeur nightclub
WEBSITE:
URL:
CONTACT:
ORGANIZER:Global Influences
ATTACH;FMTTYPE="image/jpeg":http://storage.ning.com/topology/rest/1.0/
 file/get/3054982871?profile=original
ATTENDEE;ROLE=REQ-PARTICIPANT;PARTSTAT=ACCEPTED;RSVP=TRUE;CN="Venus 7 
 and Global Influences":http://phillytodo.com/profile/Venus7andGlobalIn
 fluences
END:VEVENT
END:VCALENDAR
