BEGIN:VCALENDAR
PRODID:NingEventWidget-v1
VERSION:2.0
METHOD:PUBLISH
BEGIN:VEVENT
UID:4320450:Event:41821
DTSTAMP:20260425T142549Z
SUMMARY:Wellness Day
DESCRIPTION:Spend a day immersed in nature rejuvenating your body and 
 clearing your mind. Start off the morning with yoga and meditation ses
 sions in our forest, then spend the afternoon learning about the uses 
 of herbs, in teas and salves, to help you prepare for the dry winter m
 onths ahead. Yoga will be led by Katy Hawkins; Isaac Garfield will lea
 d participants through outdoor seated and active sensory meditation; a
 nd Stephanie Kane and April Pedrick, Wellness Buyers at Weavers Way, w
 ill talk herbs. Bring a picnic lunch or enjoy a catered lunch for an a
 dditional fee.  Pre-registration required.\n$45 Non-members | $35 Mem
 bers\nOptional catered lunch: $15\nRegister online here.\n\nFor more
  information visit http://phillytodo.com/events/wellness-day
DTSTART:20151003T120000Z
DTEND:20151003T170000Z
CATEGORIES:wellness, yoga, relaxation
LOCATION:Schuylkill Center for Environmental Education
WEBSITE:http://www.schuylkillcenter.org/
URL:http://www.schuylkillcenter.org/
CONTACT:215-482-7300, x110
ORGANIZER;CN="The Schuylkill Center":http://phillytodo.com/profile/Ann
 aLehrMueser
ATTACH;FMTTYPE="image/jpeg":http://storage.ning.com/topology/rest/1.0/
 file/get/3054990368?profile=original
ATTENDEE;ROLE=REQ-PARTICIPANT;PARTSTAT=ACCEPTED;RSVP=TRUE;CN="The Schu
 ylkill Center":http://phillytodo.com/profile/AnnaLehrMueser
END:VEVENT
END:VCALENDAR
