BEGIN:VCALENDAR
PRODID:NingEventWidget-v1
VERSION:2.0
METHOD:PUBLISH
BEGIN:VEVENT
UID:4320450:Event:56426
DTSTAMP:20260425T125823Z
SUMMARY:Weekends with Santa in Chestnut Hill
DESCRIPTION:Bring the kids to see Santa so they can share what’s on 
 their wish lists this year – and take the ultimate Santa selfie! Dur
 ing the first three weekends in December, visit Santa on Saturdays at 
 the Market at the Fareway (8221 Germantown Avenue) and on Sundays at L
 aurel Hill Gardens (8125 Germantown Avenue).\n\nFor more information v
 isit http://phillytodo.com/events/weekends-with-santa-in-chestnut-hill
DTSTART:20181201T180000Z
DTEND:20181201T200000Z
CATEGORIES:holiday
LOCATION:The Market at the Fareway and Laurel Hill Gardens
WEBSITE:https://chestnuthillpa.com/events/holidays-hill-2018-2/
URL:https://chestnuthillpa.com/events/holidays-hill-2018-2/
CONTACT:
ORGANIZER;CN="Bryan Chan":http://phillytodo.com/profile/BryanChan
ATTACH;FMTTYPE="image/jpeg":http://storage.ning.com/topology/rest/1.0/
 file/get/3055015997?profile=original
ATTENDEE;ROLE=REQ-PARTICIPANT;PARTSTAT=ACCEPTED;RSVP=TRUE;CN="Bryan Ch
 an":http://phillytodo.com/profile/BryanChan
END:VEVENT
END:VCALENDAR
