BEGIN:VCALENDAR
PRODID:NingEventWidget-v1
VERSION:2.0
METHOD:PUBLISH
BEGIN:VEVENT
UID:4320450:Event:31924
DTSTAMP:20260425T123408Z
SUMMARY:Wee Read
DESCRIPTION:\nAges 3 and up, Thursday Mornings (followed by a brief cr
 aft or activity)\n\n\n\n\n\n\nFor more information visit http://philly
 todo.com/events/wee-read
DTSTART:20130502T143000Z
DTEND:20130502T163000Z
CATEGORIES:reading, with, crafts
LOCATION:Location: Lansdowne Public Library
WEBSITE:http://lansdownepubliclibrary.com/
URL:http://lansdownepubliclibrary.com/
CONTACT:(610) 623-0239
ORGANIZER;CN="Lansdowne Public Library":http://phillytodo.com/profile/
 LansdownePublicLibrary
ATTACH;FMTTYPE="image/jpeg":http://storage.ning.com/topology/rest/1.0/
 file/get/3054965025?profile=original
ATTENDEE;ROLE=REQ-PARTICIPANT;PARTSTAT=ACCEPTED;RSVP=TRUE;CN="Lansdown
 e Public Library":http://phillytodo.com/profile/LansdownePublicLibrary
END:VEVENT
END:VCALENDAR
