BEGIN:VCALENDAR
PRODID:NingEventWidget-v1
VERSION:2.0
METHOD:PUBLISH
BEGIN:VEVENT
UID:4320450:Event:29536
DTSTAMP:20260425T144814Z
SUMMARY:Wedding Wednesday at the PHS Philadelphia Flower Show
DESCRIPTION:Hundreds of brides-to-be and their bridal parties will exp
 erience an evening of royal treatment at the PHS Philadelphia Flower S
 how’s second annual Wedding Wednesday event. Presented by the Pennsy
 lvania Horticultural Society (PHS), Philadelphia Wedding Magazine and 
 Simply Naked Wine, Wedding Wednesday offers guests exclusive access to
  a VIP area showcasing more than 50 of the region’s most celebrated 
 wedding vendors.\nTickets are available for $50 (includes Flower Show 
 admission) and may be purchased online here. Tickets for Wedding Wedne
 sday are not sold at the door. All guests will receive a special gift 
 bag filled with Wedding Wednesday goodies. \n“Follow us on twitter 
 @PhilaFlowerShow and “like” us on www.facebook.com/theflowershow.\
 n\nFor more information visit http://phillytodo.com/events/wedding-wed
 nesday-at-the-phs-philadelphia-flower-show
DTSTART:20130306T230000Z
DTEND:20130307T010000Z
CATEGORIES:flower, show, special, event
LOCATION:Pennsylvania Convention Center
WEBSITE:
URL:
CONTACT:
ORGANIZER;CN="Ashley Conde":http://phillytodo.com/profile/AshleyConde
ATTACH;FMTTYPE="image/jpeg":http://storage.ning.com/topology/rest/1.0/
 file/get/3054961091?profile=original
ATTENDEE;ROLE=REQ-PARTICIPANT;PARTSTAT=ACCEPTED;RSVP=TRUE;CN="Ashley C
 onde":http://phillytodo.com/profile/AshleyConde
END:VEVENT
END:VCALENDAR
