BEGIN:VCALENDAR
PRODID:NingEventWidget-v1
VERSION:2.0
METHOD:PUBLISH
BEGIN:VEVENT
UID:4320450:Event:39995
DTSTAMP:20260425T161441Z
SUMMARY:Wedding Wednesday at the PHS Philadelphia Flower Show
DESCRIPTION:Brides-to-be (and lovers of everything bridal) are invited
  to an evening of VIP pre-wedding treatment! In its fourth year, Phila
 delphia Wedding magazine and the Philadelphia Flower Show promise to m
 ake Wedding Wednesday bigger, better and more spectacular than ever be
 fore! Dream up the ultimate wedding with inspiration from more than 50
  local experts on fashion, music, photography, catering, honeymoon pla
 nning, and much more. Start planning your registry with BED BATH & BEY
 OND and Macy’s and stock up on your bridal reading with The Bride’
 s Instruction Manual and Searching for Grace Kelley. Both authors – 
 Carrie Denny (editor of Philadelphia Wedding) and Michael Callahan (co
 ntributing editor at Vanity Fair) will be on site to sign copies of th
 eir books.\nTo add to the magic of the evening, at 5:30 p.m. a real, f
 airytale-esque wedding will be held on the Flower Show floor among the
  world’s most beautiful and elaborate floral displays as the finale 
 of Philadelphia Wedding’s Greatest Groom Contest.\n \nAbout the PHS
  Philadelphia:\nThe PHS Philadelphia Flower Show is the world’s olde
 st and largest indoor flower show, which blooms every March at the Pen
 nsylvania Convention Center. Attracting more than 260,000 people annua
 lly, the show features the world’s premier landscape designers and f
 lorists, who turn 10 acres of the Convention Center into a floral fant
 asy of beautiful plants and cutting-edge designs. In addition to the m
 ajor garden displays, the Flower Show hosts world-renowned competition
 s in horticulture and artistic floral arranging, hundreds of gardening
  presentations and demonstrations, special events, a mammoth indoor Ma
 rketplace, and a city-wide Flower Show Week celebration throughout the
  Philadelphia region. Proceeds from the Show support PHS, particularly
  the City Harvest program, which feeds more than 1,200 families each w
 eek during the growing season.\n\nFor more information visit http://ph
 illytodo.com/events/wedding-wednesday-at-the-phs-philadelphia-flower-s
 how-1
DTSTART:20150304T230000Z
DTEND:20150305T010000Z
CATEGORIES:wedding, show
LOCATION:Pennsylvania Convention Center
WEBSITE:http://phsonline.org/events/phs-philadelphia-flower-show-weddi
 ng-wednesday
URL:http://phsonline.org/events/phs-philadelphia-flower-show-wedding-w
 ednesday
CONTACT:
ORGANIZER:
ATTACH;FMTTYPE="image/jpeg":http://storage.ning.com/topology/rest/1.0/
 file/get/3054987177?profile=original
ATTENDEE;ROLE=REQ-PARTICIPANT;PARTSTAT=ACCEPTED;RSVP=TRUE;CN=CashmanAs
 soc:http://phillytodo.com/profile/CashmanAssoc
END:VEVENT
END:VCALENDAR
