BEGIN:VCALENDAR
PRODID:NingEventWidget-v1
VERSION:2.0
METHOD:PUBLISH
BEGIN:VEVENT
UID:4320450:Event:25013
DTSTAMP:20260425T161648Z
SUMMARY:Wedding Wednesday at the Philadelphia International Flower Sho
 w
DESCRIPTION:Sponsored by Philadelphia Wedding Magazine, the Flower Sho
 w invites brides-to-be to “Wedding Wednesday”. Bring your bridesma
 ids and get advice (and take-aways!) from local fashion, music, cateri
 ng, honeymoon, and photography experts, and check out a variety of DIY
  demonstrations for more great wedding ideas. The first 250 attendees 
 will receive an exclusive gift bag filled with goodies from Wedding We
 dnesday premier vendors. \n \nTickets are $40 and include Flower Sho
 w admission; tickets must be purchased in advance.\n\nFor more informa
 tion visit http://phillytodo.com/events/wedding-wednesday-at-the-phila
 delphia-international-flower-show
DTSTART:20120307T223000Z
DTEND:20120308T003000Z
CATEGORIES:bridal, event
LOCATION:The Pennsylvania Convention Center
WEBSITE:http://www.theflowershow.com/Tickets/VIP.html
URL:http://www.theflowershow.com/Tickets/VIP.html
CONTACT:
ORGANIZER:Philadelphia Wedding Magazine
ATTACH;FMTTYPE="image/jpeg":http://storage.ning.com/topology/rest/1.0/
 file/get/3054958196?profile=original
ATTENDEE;ROLE=REQ-PARTICIPANT;PARTSTAT=ACCEPTED;RSVP=TRUE;CN="Becky L"
 :http://phillytodo.com/profile/BeckyL
END:VEVENT
END:VCALENDAR
