BEGIN:VCALENDAR
PRODID:NingEventWidget-v1
VERSION:2.0
METHOD:PUBLISH
BEGIN:VEVENT
UID:4320450:Event:38149
DTSTAMP:20260425T130610Z
SUMMARY:We Are All Made of Stars
DESCRIPTION:Bluestone Fine Art Gallery opens “WE ARE ALL MADE OF STA
 RS by Kristin Schattenfield-Rein” on September 5, 2014. The exhibiti
 on features new paintings by the Philly-based artist in his second sol
 o show at the gallery.\n\nFor more information visit http://phillytodo
 .com/events/we-are-all-made-of-stars
DTSTART:20140905T220000Z
DTEND:20141027T210000Z
CATEGORIES:art, exhibition
LOCATION:Old City
WEBSITE:http://bluestone-gallery.com
URL:http://bluestone-gallery.com
CONTACT:8569797588
ORGANIZER;CN="Bluestone Fine Art Gallery":http://phillytodo.com/profil
 e/BluestoneFineArtGallery
ATTACH;FMTTYPE="image/jpeg":http://storage.ning.com/topology/rest/1.0/
 file/get/3054980260?profile=original
ATTENDEE;ROLE=REQ-PARTICIPANT;PARTSTAT=ACCEPTED;RSVP=TRUE;CN="Blueston
 e Fine Art Gallery":http://phillytodo.com/profile/BluestoneFineArtGall
 ery
END:VEVENT
END:VCALENDAR
