BEGIN:VCALENDAR
PRODID:NingEventWidget-v1
VERSION:2.0
METHOD:PUBLISH
BEGIN:VEVENT
UID:4320450:Event:26715
DTSTAMP:20260425T144612Z
SUMMARY:WAWA Welcome America, Go 4th and Learn in Franklin Square
DESCRIPTION:Go 4th & Learn – Storytelling and more as part of the Wa
 wa Welcome America celebration.  FREE!\n\nFor more information visit 
 http://phillytodo.com/events/wawa-welcome-america-go-4th-and-learn-in-
 franklin-square
DTSTART:20120625T140000Z
DTEND:20120625T160000Z
CATEGORIES:wawa, welcome, america, kidfriendly, family, outdoors, stor
 ytelling
LOCATION:Franklin Square
WEBSITE:http://www.historicphiladelphia.org
URL:http://www.historicphiladelphia.org
CONTACT:215-629-4026
ORGANIZER:Historic Philadelphia Inc.
ATTACH;FMTTYPE="image/jpeg":
ATTENDEE;ROLE=REQ-PARTICIPANT;PARTSTAT=ACCEPTED;RSVP=TRUE;CN="Cari Fei
 ler Bender":http://phillytodo.com/profile/CariFeilerBender
END:VEVENT
END:VCALENDAR
