BEGIN:VCALENDAR
PRODID:NingEventWidget-v1
VERSION:2.0
METHOD:PUBLISH
BEGIN:VEVENT
UID:4320450:Event:35303
DTSTAMP:20260425T125923Z
SUMMARY:Wassailing and Caroling Hayrides
DESCRIPTION:Come aboard a cozy wagon and snuggle with your loved ones 
 for a ride through the farm. The wagon stops among the apple trees whe
 re you'll gather around a crackling bonfire and sip on apple cider whi
 le singing your favorite Christmas hymns. Caroling Hayrides run on Dec
 ember 7, 14 and 21 at 5 and 6:30 pm for $5 per person.\n\nFor more inf
 ormation visit http://phillytodo.com/events/wassailing-and-caroling-ha
 yrides
DTSTART:20131207T220000Z
DTEND:20131222T000000Z
CATEGORIES:for, the, family, holiday, fun
LOCATION:Linvilla Orchards
WEBSITE:http://www.linvilla.com
URL:http://www.linvilla.com
CONTACT:610-876=7116
ORGANIZER:Jaime Morris
ATTACH;FMTTYPE="image/jpeg":
ATTENDEE;ROLE=REQ-PARTICIPANT;PARTSTAT=ACCEPTED;RSVP=TRUE;CN="Tina Bre
 slow":http://phillytodo.com/profile/TinaBreslow
END:VEVENT
END:VCALENDAR
