BEGIN:VCALENDAR
PRODID:NingEventWidget-v1
VERSION:2.0
METHOD:PUBLISH
BEGIN:VEVENT
UID:4320450:Event:974
DTSTAMP:20260425T124912Z
SUMMARY:Wanted Records Casting Call
DESCRIPTION:Looking for promo models (alternative looking welcome) for
  new record label. Open call Monday Feb. 1st from 5pm-9pm at Creep Rec
 ords in the Piazza. E-mail wantedindustries@gmail.com to send pics and
  resume.\n\nFor more information visit http://phillytodo.com/events/wa
 nted-records-casting-call
DTSTART:20100201T220000Z
DTEND:20100202T020000Z
CATEGORIES:casting, call
LOCATION:the Piazza
WEBSITE:
URL:
CONTACT:
ORGANIZER:wanted records
ATTACH;FMTTYPE="image/jpeg":http://storage.ning.com/topology/rest/1.0/
 file/get/3054946418?profile=original
ATTENDEE;ROLE=REQ-PARTICIPANT;PARTSTAT=ACCEPTED;RSVP=TRUE;CN="tc mastr
 icolo":http://phillytodo.com/profile/tcmastricolo
END:VEVENT
END:VCALENDAR
