BEGIN:VCALENDAR
PRODID:NingEventWidget-v1
VERSION:2.0
METHOD:PUBLISH
BEGIN:VEVENT
UID:4320450:Event:41737
DTSTAMP:20260425T142933Z
SUMMARY:Walking the River Trail: Nature & History by the Schuylkill Ri
 ver
DESCRIPTION:The Schuylkill Center sits perched atop and connected to t
 he Schuylkill River Trail, just voted the number one urban trail in th
 e country by USA Today. In a lovely walk between the Shawmont and Miq
 uon train stations, director Mike Weilbacher introduces you to birds, 
 creeks, trees, flowers, weeds, rocks and even the human history of the
  area. It’s three-mile round trip, so dress appropriately, wear comf
 ortable shoes, and bring water and a snack. Park at the bottom of Shaw
 mont Avenue by the train bridge; meet at the Shawmont train station.\n
 This is a free event.\nLet us know if you plan to come.\n\nFor more i
 nformation visit http://phillytodo.com/events/walking-the-river-trail-
 nature-history-by-the-schuylkill-river
DTSTART:20151107T150000Z
DTEND:20151107T180000Z
CATEGORIES:nature, walk
LOCATION:Schuylkill Center for Environmental Education
WEBSITE:http://www.schuylkillcenter.org/
URL:http://www.schuylkillcenter.org/
CONTACT:215-482-7300, x110
ORGANIZER;CN="The Schuylkill Center":http://phillytodo.com/profile/Ann
 aLehrMueser
ATTACH;FMTTYPE="image/jpeg":http://storage.ning.com/topology/rest/1.0/
 file/get/3054990859?profile=original
ATTENDEE;ROLE=REQ-PARTICIPANT;PARTSTAT=ACCEPTED;RSVP=TRUE;CN="The Schu
 ylkill Center":http://phillytodo.com/profile/AnnaLehrMueser
END:VEVENT
END:VCALENDAR
