BEGIN:VCALENDAR
PRODID:NingEventWidget-v1
VERSION:2.0
METHOD:PUBLISH
BEGIN:VEVENT
UID:4320450:Event:44617
DTSTAMP:20260425T124957Z
SUMMARY:Walking the Path: Practicing Deep Meditation: Drop-In Meditati
 on Class
DESCRIPTION:Each class consists of two guided meditations, a teaching 
 on a Buddhist topic, and optional class discussion. We also welcome yo
 u to tea and conversation afterwards. This class is a great place to s
 tart if you are new to Buddhism and/or meditation.\n Everyone is welc
 ome. Drop in to any class.\n\nFebruary 18th – How to Have the Bigges
 t Heart in the Universe\n \n7:00 - 8:30 PM\n$10 per class.\n \nClass
 es are taught by Gen Tenzin, the Resident Teacher of Amitayus Kadampa 
 Buddhist Center and a Buddhist monk of over 17 years who has taught Ka
 dampa Buddhism extensively for over 18 years in California, Connecticu
 t, Vermont, Maine, New York, Massachusetts, New Hampshire, New Jersey,
  and Pennsylvania.  He has a great depth of understanding of the teac
 hings and is skillful in his presentation by sharing them in an entert
 aining, approachable, and kind-hearted manner.  \nFor more details, v
 isit:\nhttp://www.meditationinphiladelphia.org/thursday-evenings/\n\nF
 or more information visit http://phillytodo.com/events/walking-the-pat
 h-practicing-deep-meditation-drop-in-meditation-5
DTSTART:20160219T000000Z
DTEND:20160219T013000Z
CATEGORIES:meditation, class
LOCATION:Amitayus Kadampa Buddhist Center
WEBSITE:http://www.meditationinphiladelphia.org/
URL:http://www.meditationinphiladelphia.org/
CONTACT:267-702-3817
ORGANIZER;CN="Education Program Coordinator":http://phillytodo.com/pro
 file/EducationProgramCoordinator
ATTACH;FMTTYPE="image/jpeg":http://storage.ning.com/topology/rest/1.0/
 file/get/3054993582?profile=original
ATTENDEE;ROLE=REQ-PARTICIPANT;PARTSTAT=ACCEPTED;RSVP=TRUE;CN="Educatio
 n Program Coordinator":http://phillytodo.com/profile/EducationProgramC
 oordinator
END:VEVENT
END:VCALENDAR
