BEGIN:VCALENDAR
PRODID:NingEventWidget-v1
VERSION:2.0
METHOD:PUBLISH
BEGIN:VEVENT
UID:4320450:Event:44802
DTSTAMP:20260425T124958Z
SUMMARY:Walking the Path: Practicing Deep Meditation: Drop-In Meditati
 on Class
DESCRIPTION:Each class consists of two guided meditations, a teaching 
 on a Buddhist topic, and optional class discussion. We also welcome yo
 u to tea and conversation afterwards. This class is a great place to s
 tart if you are new to Buddhism and/or meditation.  \nEveryone is wel
 come. Drop in to any class.\n\nFebruary 4th – What Goes Around Comes
  Around: The Meaning of Karma\n \n7:00 - 8:30 PM\n$10 per class.\n \
 nClasses are taught by Gen Tenzin, the Resident Teacher of Amitayus Ka
 dampa Buddhist Center and a Buddhist monk of over 17 years who has tau
 ght Kadampa Buddhism extensively for over 18 years in California, Conn
 ecticut, Vermont, Maine, New York, Massachusetts, New Hampshire, New J
 ersey, and Pennsylvania.  He has a great depth of understanding of th
 e teachings and is skillful in his presentation by sharing them in an 
 entertaining, approachable, and kind-hearted manner.  \nFor more deta
 ils, visit:\nhttp://www.meditationinphiladelphia.org/thursday-evenings
 /\n\nFor more information visit http://phillytodo.com/events/walking-t
 he-path-practicing-deep-meditation-drop-in-meditation-3
DTSTART:20160205T000000Z
DTEND:20160205T013000Z
CATEGORIES:meditation, class
LOCATION:Amitayus Kadampa Buddhist Center
WEBSITE:http://www.meditationinphiladelphia.org/
URL:http://www.meditationinphiladelphia.org/
CONTACT:267-702-3817
ORGANIZER;CN="Education Program Coordinator":http://phillytodo.com/pro
 file/EducationProgramCoordinator
ATTACH;FMTTYPE="image/jpeg":http://storage.ning.com/topology/rest/1.0/
 file/get/3054993582?profile=original
ATTENDEE;ROLE=REQ-PARTICIPANT;PARTSTAT=ACCEPTED;RSVP=TRUE;CN="Educatio
 n Program Coordinator":http://phillytodo.com/profile/EducationProgramC
 oordinator
END:VEVENT
END:VCALENDAR
