BEGIN:VCALENDAR
PRODID:NingEventWidget-v1
VERSION:2.0
METHOD:PUBLISH
BEGIN:VEVENT
UID:4320450:Event:44611
DTSTAMP:20260425T125002Z
SUMMARY:Walking the Path: Practicing Deep Meditation: Drop-In Meditati
 on Class
DESCRIPTION:Each class consists of two guided meditations, a teaching 
 on a Buddhist topic, and optional class discussion. We also welcome yo
 u to tea and conversation afterwards. This class is a great place to s
 tart if you are new to Buddhism and/or meditation.  \nEveryone is wel
 come. Drop in to any class.\n\nJanuary 28th- Finding Shelter from the 
 Storm: Becoming a Buddhist\n7:00 - 8:30 PM\n$10 per class.\n \nClasse
 s are taught by Gen Tenzin, the Resident Teacher of Amitayus Kadampa B
 uddhist Center and a Buddhist monk of over 17 years who has taught Kad
 ampa Buddhism extensively for over 18 years in California, Connecticut
 , Vermont, Maine, New York, Massachusetts, New Hampshire, New Jersey, 
 and Pennsylvania.  He has a great depth of understanding of the teach
 ings and is skillful in his presentation by sharing them in an enterta
 ining, approachable, and kind-hearted manner.  \nFor more details, vi
 sit:\nhttp://www.meditationinphiladelphia.org/thursday-evenings/\n\nFo
 r more information visit http://phillytodo.com/events/walking-the-path
 -practicing-deep-meditation-drop-in-meditation-2
DTSTART:20160129T000000Z
DTEND:20160129T013000Z
CATEGORIES:meditation, class
LOCATION:Amitayus Kadampa Buddhist Center
WEBSITE:http://www.meditationinphiladelphia.org/
URL:http://www.meditationinphiladelphia.org/
CONTACT:267-702-3817
ORGANIZER;CN="Education Program Coordinator":http://phillytodo.com/pro
 file/EducationProgramCoordinator
ATTACH;FMTTYPE="image/jpeg":http://storage.ning.com/topology/rest/1.0/
 file/get/3054993582?profile=original
ATTENDEE;ROLE=REQ-PARTICIPANT;PARTSTAT=ACCEPTED;RSVP=TRUE;CN="Educatio
 n Program Coordinator":http://phillytodo.com/profile/EducationProgramC
 oordinator
END:VEVENT
END:VCALENDAR
