BEGIN:VCALENDAR
PRODID:NingEventWidget-v1
VERSION:2.0
METHOD:PUBLISH
BEGIN:VEVENT
UID:4320450:Event:44702
DTSTAMP:20260425T125036Z
SUMMARY:Walking the Path: Practicing Deep Meditation: Drop-In Meditati
 on Class
DESCRIPTION:Each class consists of two guided meditations, a teaching 
 on a Buddhist topic, and optional class discussion. We also welcome yo
 u to tea and conversation afterwards.\nThis class is a great place to 
 start if you are new to Buddhism and/or meditation.\nEveryone is welco
 me. Drop in to any class.\nJanuary 21st – Understanding the Dangers 
 of Harmful Actions\n7:00 - 8:30 PM $10 per class.\nClasses are taught 
 by Gen Tenzin, the Resident Teacher of Amitayus Kadampa Buddhist Cente
 r and a Buddhist monk of over 17 years who has taught Kadampa Buddhism
  extensively for over 18 years in California, Connecticut, Vermont, Ma
 ine, New York, Massachusetts, New Hampshire, New Jersey, and Pennsylva
 nia. He has a great depth of understanding of the teachings and is ski
 llful in his presentation by sharing them in an entertaining, approach
 able, and kind-hearted manner. For more details, visit: http://www.med
 itationinphiladelphia.org/thursday-evenings/\n\nFor more information v
 isit http://phillytodo.com/events/walking-the-path-practicing-deep-med
 itation-drop-in-meditation-1
DTSTART:20160122T000000Z
DTEND:20160122T013000Z
CATEGORIES:meditation, class
LOCATION:Amitayus Kadampa Buddhist Center
WEBSITE:http://www.meditationinphiladelphia.org/
URL:http://www.meditationinphiladelphia.org/
CONTACT:267-702-3817
ORGANIZER;CN="Education Program Coordinator":http://phillytodo.com/pro
 file/EducationProgramCoordinator
ATTACH;FMTTYPE="image/jpeg":http://storage.ning.com/topology/rest/1.0/
 file/get/3054993582?profile=original
ATTENDEE;ROLE=REQ-PARTICIPANT;PARTSTAT=ACCEPTED;RSVP=TRUE;CN="Educatio
 n Program Coordinator":http://phillytodo.com/profile/EducationProgramC
 oordinator
END:VEVENT
END:VCALENDAR
