BEGIN:VCALENDAR
PRODID:NingEventWidget-v1
VERSION:2.0
METHOD:PUBLISH
BEGIN:VEVENT
UID:4320450:Event:38557
DTSTAMP:20260425T144251Z
SUMMARY:Walk the Dead Carpet
DESCRIPTION:Halloween 2014 in Philadelphia!  Come join us as we bring
  classic Hollywood to South Street's Paddy Whacks Friday, October 31st
  at \"Walk the Dead Carpet\" as your favorite dead celebrity! We're ce
 lebrating the day of the dead by partying like some of the greats who 
 have sadly walked the dead carpet like Robin Williams, Michael Jackson
 , and Marilyn Monroe. Don't miss your chance to bring a dead celebrity
  back from the grave and party at Philadelphia's \"Hills\" so Joan Riv
 ers can ask what you're wearing!\n \nGet the star treatment with a li
 ght food buffet, drink specials, dancing, and costume contests! There 
 will be a DJ entertainment for all areas of the pub, so be sure to com
 e ready to dance!  Tickets Include Light food buffet, Costume Contest
  with over $500 in cash & prizes, multiple DJs! \n \nMultiple Ticket
  Options: General Admission (with First drink free) and VIP 2-HOUR Ope
 n Bar\n \nTickets & More Info: http://www.upcomingevents.com/philadel
 phia/walk-the-dead-carpet-halloween-party/ptodo/\n\nFor more informati
 on visit http://phillytodo.com/events/walk-the-dead-carpet
DTSTART:20141101T000000Z
DTEND:20141101T060000Z
CATEGORIES:halloween
LOCATION:Paddy Whacks
WEBSITE:http://www.upcomingevents.com/philadelphia/walk-the-dead-carpe
 t-halloween-party/ptodo/
URL:http://www.upcomingevents.com/philadelphia/walk-the-dead-carpet-ha
 lloween-party/ptodo/
CONTACT:
ORGANIZER;CN="UpcomingEvents.com":http://phillytodo.com/profile/Upcomi
 ngEventscom
ATTACH;FMTTYPE="image/jpeg":http://storage.ning.com/topology/rest/1.0/
 file/get/3054980614?profile=original
ATTENDEE;ROLE=REQ-PARTICIPANT;PARTSTAT=ACCEPTED;RSVP=TRUE;CN="Upcoming
 Events.com":http://phillytodo.com/profile/UpcomingEventscom
END:VEVENT
END:VCALENDAR
