BEGIN:VCALENDAR
PRODID:NingEventWidget-v1
VERSION:2.0
METHOD:PUBLISH
BEGIN:VEVENT
UID:4320450:Event:45423
DTSTAMP:20260425T130708Z
SUMMARY:Waffles & Wedges 1st Birthday Block Party
DESCRIPTION:Waffles & Wedges (1511 Pine Street) celebrates one year in
  business with a special 1st Birthday Block Party on Sunday, April 24,
  2016, from 1pm to 5pm. Owners Andrea Capecci and Laura Judy will clos
 e down the street next to the Rittenhouse eatery for an outdoor celebr
 ation featuring food specials, menu additions, free beer tastings, liv
 e music, food trucks and more. Admission is free. Food is pay-as-you-g
 o. Drinks are free. 21 and up to drink.  In honor of a successful fir
 st year in business, Waffles & Wedges will celebrate with an afternoon
  of festivities that will close down South Hicks Street, located direc
 tly next to the restaurant. Look for food specials and menu additions 
 inside at the counter, as well as outside at Capecci and Judy’s two 
 food trucks (Pbons Fresh Phood of Philly and Waffles on wheels). Speci
 als and menu additions will include Party Crasher Mini Waffles for onl
 y $1 (Liege waffle topped with vanilla icing and rainbow jimmies) plus
  other tasty treats!Waffles & Wedges local partners will also be on ha
 nd for FREE samplings of beer, coffee and ice cream - including:  * C
 omplimentary beer tastings from Broken Goblet Brewing, Neshaminy Creek
  Brewing and Philadelphia Brewing Company* Ice cream scooping from Bas
 setts’ Ice Cream* Locally roasted and organic coffee from Philly Fai
 r Trade Roasters* Wine samples from Ten Gallon Hat Winery  On top of 
 food and drink, look for other outdoor fun like live music jams all af
 ternoon from students at University of the Arts, and children’s acti
 vities plus adoptables from Saved Me.  Admission to the block party i
 s free! Ice cream, beer and coffee are free. Other food is pay-as-you-
 go. 21 and up to drink (with identification). For more information, vi
 sit www.waffleswedges.com, call 215-309-3222 or follow @WafflesWedg
 es\n\nFor more information visit http://phillytodo.com/events/waffles-
 wedges-1st-birthday-block-party
DTSTART:20160424T170000Z
DTEND:20160424T210000Z
CATEGORIES:block, party, birthday
LOCATION:Waffles & Wedges
WEBSITE:http://www.waffleswedges.com/
URL:http://www.waffleswedges.com/
CONTACT:215.309.3222
ORGANIZER;CN="Aversa PR & Events":http://phillytodo.com/profile/KoryAv
 ersa277
ATTACH;FMTTYPE="image/jpeg":
ATTENDEE;ROLE=REQ-PARTICIPANT;PARTSTAT=ACCEPTED;RSVP=TRUE;CN="Aversa P
 R & Events":http://phillytodo.com/profile/KoryAversa277
END:VEVENT
END:VCALENDAR
