BEGIN:VCALENDAR
PRODID:NingEventWidget-v1
VERSION:2.0
METHOD:PUBLISH
BEGIN:VEVENT
UID:4320450:Event:33809
DTSTAMP:20260425T130715Z
SUMMARY:Vote for Square 1682 USA Today 10 Best!
DESCRIPTION:Show your Philly pride! Vote for Square 1682 in USA Today 
 10Best Hotel Bars in the US! Show you voted and get a free order of  
 Square 1682's totally addictive truffle popcorn. + We're hosting a We 
 Won party later this month — and you're all invited. But first we ha
 ve to win. Please vote now and later.\n\nFor more information visit ht
 tp://phillytodo.com/events/vote-for-square-1682-usa-today-10-best
DTSTART:20130812T040000Z
DTEND:20130827T035900Z
CATEGORIES:vote, for, "philly's", square, 1682, "— modern", america
 n, kitchen, "+", cocktails
LOCATION:Philadelphia
WEBSITE:http://www.10best.com/awards/travel/best-hotel-bar/
URL:http://www.10best.com/awards/travel/best-hotel-bar/
CONTACT:
ORGANIZER;CN="Punch Media":http://phillytodo.com/profile/PunchMedia
ATTACH;FMTTYPE="image/jpeg":
ATTENDEE;ROLE=REQ-PARTICIPANT;PARTSTAT=ACCEPTED;RSVP=TRUE;CN="Punch Me
 dia":http://phillytodo.com/profile/PunchMedia
END:VEVENT
END:VCALENDAR
